BEGIN:VCALENDAR
VERSION:2.0
PRODID:-//Plone.org//NONSGML plone.app.event//EN
X-WR-TIMEZONE:Europe/Madrid
BEGIN:VEVENT
SUMMARY:'Dados'. Cía. Ventrílocuo Veloz. Madrid
DTSTART;TZID=Europe/Madrid;VALUE=DATE-TIME:20220224T120000
DTEND;TZID=Europe/Madrid;VALUE=DATE-TIME:20220224T125500
DTSTAMP;VALUE=DATE-TIME:20260420T113711Z
UID:f23cba65eca94a81ba85e694cdb049b6@icas.sevilla.org
CATEGORIES:Artes escénicas
CREATED;VALUE=DATE-TIME:20210902T103500Z
LAST-MODIFIED;VALUE=DATE-TIME:20231011T100753Z
LOCATION:Teatro Alameda
URL:https://icas.sevilla.org/espacios/teatro-alameda/agenda/copy_of_dados-
 cia-ventrilocuo-veloz-madrid
END:VEVENT
BEGIN:VTIMEZONE
TZID:Europe/Madrid
X-LIC-LOCATION:Europe/Madrid
BEGIN:STANDARD
DTSTART;VALUE=DATE-TIME:20211031T020000
TZNAME:CET
TZOFFSETFROM:+0200
TZOFFSETTO:+0100
END:STANDARD
END:VTIMEZONE
END:VCALENDAR
