BEGIN:VCALENDAR
VERSION:2.0
PRODID:-//Plone.org//NONSGML plone.app.event//EN
X-WR-TIMEZONE:Europe/Madrid
BEGIN:VEVENT
SUMMARY:Got Rock! Francis Zafrilla. Castilla La Mancha.
DTSTART;TZID=Europe/Madrid;VALUE=DATE-TIME:20201220T123000
DTEND;TZID=Europe/Madrid;VALUE=DATE-TIME:20201220T132500
DTSTAMP;VALUE=DATE-TIME:20260425T014300Z
UID:f4e23732c50b416f86a0a15d1e9188d8@icas.sevilla.org
CATEGORIES:artes escenicas,infantil
CREATED;VALUE=DATE-TIME:20201201T134215Z
LAST-MODIFIED;VALUE=DATE-TIME:20231011T100751Z
LOCATION:Espacio Santa Clara
URL:https://icas.sevilla.org/espacios/teatro-alameda/agenda/copy_of_got-ro
 ck
END:VEVENT
BEGIN:VTIMEZONE
TZID:Europe/Madrid
X-LIC-LOCATION:Europe/Madrid
BEGIN:STANDARD
DTSTART;VALUE=DATE-TIME:20201025T020000
TZNAME:CET
TZOFFSETFROM:+0200
TZOFFSETTO:+0100
END:STANDARD
END:VTIMEZONE
END:VCALENDAR
