BEGIN:VCALENDAR
VERSION:2.0
PRODID:-//Plone.org//NONSGML plone.app.event//EN
X-WR-TIMEZONE:Europe/Madrid
BEGIN:VEVENT
SUMMARY:La gallina azul. Cía. Tanxarina. Galicia.
DTSTART;TZID=Europe/Madrid;VALUE=DATE-TIME:20201220T120000
DTEND;TZID=Europe/Madrid;VALUE=DATE-TIME:20201220T125000
DTSTAMP;VALUE=DATE-TIME:20260425T014826Z
UID:4f6e1c34c2b444f38aaffa0e4cc5116d@icas.sevilla.org
CATEGORIES:artes escenicas,infantil
CREATED;VALUE=DATE-TIME:20201201T133753Z
LAST-MODIFIED;VALUE=DATE-TIME:20231011T100751Z
LOCATION:La Fundición
URL:https://icas.sevilla.org/espacios/teatro-alameda/agenda/copy_of_la-gal
 lina-azul
END:VEVENT
BEGIN:VTIMEZONE
TZID:Europe/Madrid
X-LIC-LOCATION:Europe/Madrid
BEGIN:STANDARD
DTSTART;VALUE=DATE-TIME:20201025T020000
TZNAME:CET
TZOFFSETFROM:+0200
TZOFFSETTO:+0100
END:STANDARD
END:VTIMEZONE
END:VCALENDAR
