BEGIN:VCALENDAR
VERSION:2.0
PRODID:-//Plone.org//NONSGML plone.app.event//EN
X-WR-TIMEZONE:Europe/Madrid
BEGIN:VEVENT
SUMMARY:Punchinelis. Cía. Siesta Teatro. Granada.
DTSTART;TZID=Europe/Madrid;VALUE=DATE-TIME:20201219T163000
DTEND;TZID=Europe/Madrid;VALUE=DATE-TIME:20201219T171000
DTSTAMP;VALUE=DATE-TIME:20260425T014402Z
UID:faff7826285b4d9b890f18d8319ab61f@icas.sevilla.org
CATEGORIES:artes escenicas,infantil
CREATED;VALUE=DATE-TIME:20201201T131209Z
LAST-MODIFIED;VALUE=DATE-TIME:20231011T100750Z
LOCATION:Espacio Santa Clara
URL:https://icas.sevilla.org/espacios/teatro-alameda/agenda/copy_of_punchi
 nelis
END:VEVENT
BEGIN:VTIMEZONE
TZID:Europe/Madrid
X-LIC-LOCATION:Europe/Madrid
BEGIN:STANDARD
DTSTART;VALUE=DATE-TIME:20201025T020000
TZNAME:CET
TZOFFSETFROM:+0200
TZOFFSETTO:+0100
END:STANDARD
END:VTIMEZONE
END:VCALENDAR
