BEGIN:VCALENDAR
VERSION:2.0
PRODID:-//Plone.org//NONSGML plone.app.event//EN
X-WR-TIMEZONE:Europe/Madrid
BEGIN:VEVENT
SUMMARY:'Una luna entre dos casas'. Cía. Le Carrousel. Canadá
DTSTART;TZID=Europe/Madrid;VALUE=DATE-TIME:20220311T100000
DTEND;TZID=Europe/Madrid;VALUE=DATE-TIME:20220312T180000
DTSTAMP;VALUE=DATE-TIME:20260425T191405Z
UID:f3e3201304a2460c9725c7c97f0693b7@icas.sevilla.org
CATEGORIES:Teatro infantil y familiar
CREATED;VALUE=DATE-TIME:20210903T072910Z
LAST-MODIFIED;VALUE=DATE-TIME:20231011T100753Z
URL:https://icas.sevilla.org/espacios/teatro-alameda/agenda/copy_of_una-lu
 na-entre-dos-casas-cia-le-carrousel-canada
END:VEVENT
BEGIN:VTIMEZONE
TZID:Europe/Madrid
X-LIC-LOCATION:Europe/Madrid
BEGIN:STANDARD
DTSTART;VALUE=DATE-TIME:20211031T020000
TZNAME:CET
TZOFFSETFROM:+0200
TZOFFSETTO:+0100
END:STANDARD
END:VTIMEZONE
END:VCALENDAR
