BEGIN:VCALENDAR
VERSION:2.0
PRODID:-//Plone.org//NONSGML plone.app.event//EN
X-WR-TIMEZONE:Europe/Madrid
BEGIN:VEVENT
SUMMARY:'Curso sobre el títere de guante catalán'. EUGENIO NAVARRO y MAR
 TÍ DOY. Cataluña
DTSTART;TZID=Europe/Madrid;VALUE=DATE-TIME:20230512T170000
DTEND;TZID=Europe/Madrid;VALUE=DATE-TIME:20230512T180000
DTSTAMP;VALUE=DATE-TIME:20260423T112945Z
UID:2d1e0e6f88334228957537afd42f325c@icas.sevilla.org
CATEGORIES:Teatro infantil y familiar
CREATED;VALUE=DATE-TIME:20230418T114214Z
DESCRIPTION:Feria Internacional del Títere de Sevilla
LAST-MODIFIED;VALUE=DATE-TIME:20231011T100756Z
URL:https://icas.sevilla.org/espacios/teatro-alameda/agenda/curso-sobre-el
 -titere-de-guante-catalan-eugenio-navarro-y-marti-doy-cataluna
END:VEVENT
BEGIN:VTIMEZONE
TZID:Europe/Madrid
X-LIC-LOCATION:Europe/Madrid
BEGIN:DAYLIGHT
DTSTART;VALUE=DATE-TIME:20230326T030000
TZNAME:CEST
TZOFFSETFROM:+0100
TZOFFSETTO:+0200
END:DAYLIGHT
END:VTIMEZONE
END:VCALENDAR
