BEGIN:VCALENDAR
VERSION:2.0
PRODID:-//Plone.org//NONSGML plone.app.event//EN
X-WR-TIMEZONE:Europe/Madrid
BEGIN:VEVENT
SUMMARY:'El desafío de Carlos Quinto'. Cía. SOLDENOCHE TEATRO. Extremadu
 ra
DTSTART;TZID=Europe/Madrid;VALUE=DATE-TIME:20201223T120000
DTEND;TZID=Europe/Madrid;VALUE=DATE-TIME:20201223T130000
DTSTAMP;VALUE=DATE-TIME:20260422T152412Z
UID:42c87a1674d84518bbe1540fdba5bfa7@icas.sevilla.org
CATEGORIES:artes escenicas
CREATED;VALUE=DATE-TIME:20201201T174806Z
DESCRIPTION:Cía. SOLDENOCHE TEATRO. Extremadura
LAST-MODIFIED;VALUE=DATE-TIME:20231011T100751Z
LOCATION:Centro Cívico Bellavista
URL:https://icas.sevilla.org/espacios/teatro-alameda/agenda/el-desafio-de-
 carlos-quinto
END:VEVENT
BEGIN:VTIMEZONE
TZID:Europe/Madrid
X-LIC-LOCATION:Europe/Madrid
BEGIN:STANDARD
DTSTART;VALUE=DATE-TIME:20201025T020000
TZNAME:CET
TZOFFSETFROM:+0200
TZOFFSETTO:+0100
END:STANDARD
END:VTIMEZONE
END:VCALENDAR
