BEGIN:VCALENDAR
VERSION:2.0
PRODID:-//Plone.org//NONSGML plone.app.event//EN
X-WR-TIMEZONE:Europe/Madrid
BEGIN:VEVENT
SUMMARY:El tesoro de Barracuda. Cía. A la sombrita. Sevilla.
DTSTART;TZID=Europe/Madrid;VALUE=DATE-TIME:20201219T180000
DTEND;TZID=Europe/Madrid;VALUE=DATE-TIME:20201219T185000
DTSTAMP;VALUE=DATE-TIME:20260425T014428Z
UID:6f6db7ee90b1422396827a7b680ebe28@icas.sevilla.org
CATEGORIES:artes escenicas,infantil
CREATED;VALUE=DATE-TIME:20201201T134623Z
LAST-MODIFIED;VALUE=DATE-TIME:20231011T100751Z
LOCATION:Teatro Alameda
URL:https://icas.sevilla.org/espacios/teatro-alameda/agenda/el-tesoro-de-b
 arracuda
END:VEVENT
BEGIN:VTIMEZONE
TZID:Europe/Madrid
X-LIC-LOCATION:Europe/Madrid
BEGIN:STANDARD
DTSTART;VALUE=DATE-TIME:20201025T020000
TZNAME:CET
TZOFFSETFROM:+0200
TZOFFSETTO:+0100
END:STANDARD
END:VTIMEZONE
END:VCALENDAR
