BEGIN:VCALENDAR
VERSION:2.0
PRODID:-//Plone.org//NONSGML plone.app.event//EN
X-WR-TIMEZONE:Europe/Madrid
BEGIN:VEVENT
SUMMARY:'EMMA\, LA SOMBRA Y LA ESPIRAL'. Cía. LAMARAÑA TEATRO. Sevilla
DTSTART;TZID=Europe/Madrid;VALUE=DATE-TIME:20221119T180000
DTEND;TZID=Europe/Madrid;VALUE=DATE-TIME:20221119T185000
DTSTAMP;VALUE=DATE-TIME:20260421T064357Z
UID:106b8ade04584eb4aac8b5c9d857a6d9@icas.sevilla.org
CATEGORIES:Teatro infantil y familiar
CREATED;VALUE=DATE-TIME:20220907T141733Z
DESCRIPTION:32 ciclo 'El Teatro y la Escuela'
LAST-MODIFIED;VALUE=DATE-TIME:20231011T100755Z
URL:https://icas.sevilla.org/espacios/teatro-alameda/agenda/emma-la-sombra
 -y-la-espiral-cia-lamarana-teatro-sevilla
END:VEVENT
BEGIN:VTIMEZONE
TZID:Europe/Madrid
X-LIC-LOCATION:Europe/Madrid
BEGIN:STANDARD
DTSTART;VALUE=DATE-TIME:20221030T020000
TZNAME:CET
TZOFFSETFROM:+0200
TZOFFSETTO:+0100
END:STANDARD
END:VTIMEZONE
END:VCALENDAR
