BEGIN:VCALENDAR
VERSION:2.0
PRODID:-//Plone.org//NONSGML plone.app.event//EN
X-WR-TIMEZONE:Europe/Madrid
BEGIN:VEVENT
SUMMARY:INGENII MACHINA (Instalación de calle en el Centro Cívico Las Si
 renas)
DTSTART;TZID=Europe/Madrid;VALUE=DATE-TIME:20220519T170000
DTEND;TZID=Europe/Madrid;VALUE=DATE-TIME:20220521T120000
DTSTAMP;VALUE=DATE-TIME:20260419T155441Z
UID:df8762af3e2d438baf8002f014f18377@icas.sevilla.org
CATEGORIES:títeres
CREATED;VALUE=DATE-TIME:20220424T153105Z
DESCRIPTION:Cía. ALAUDA TEATRO. Castilla y León
LAST-MODIFIED;VALUE=DATE-TIME:20231011T100754Z
LOCATION:Centro Cívico Las Sirenas
URL:https://icas.sevilla.org/espacios/teatro-alameda/agenda/ingenii-machin
 a-instalacion-cia-alauda-teatro-castilla-y-leon
END:VEVENT
BEGIN:VTIMEZONE
TZID:Europe/Madrid
X-LIC-LOCATION:Europe/Madrid
BEGIN:DAYLIGHT
DTSTART;VALUE=DATE-TIME:20220327T030000
TZNAME:CEST
TZOFFSETFROM:+0100
TZOFFSETTO:+0200
END:DAYLIGHT
END:VTIMEZONE
END:VCALENDAR
