BEGIN:VCALENDAR
VERSION:2.0
PRODID:-//Plone.org//NONSGML plone.app.event//EN
X-WR-TIMEZONE:Europe/Madrid
BEGIN:VEVENT
SUMMARY:'Juanito y María'. Cía. FLASH TEATRO. Sevilla
DTSTART;TZID=Europe/Madrid;VALUE=DATE-TIME:20201221T120000
DTEND;TZID=Europe/Madrid;VALUE=DATE-TIME:20201221T130000
DTSTAMP;VALUE=DATE-TIME:20260425T014718Z
UID:42d78228ac4542a79cf3351bdaabb8db@icas.sevilla.org
CATEGORIES:artes escenicas,Infantil
CREATED;VALUE=DATE-TIME:20201201T130013Z
DESCRIPTION:Cía. FLASH TEATRO. Sevilla
LAST-MODIFIED;VALUE=DATE-TIME:20231011T100750Z
LOCATION:Centro Cívico Alcosa
URL:https://icas.sevilla.org/espacios/teatro-alameda/agenda/juanito-y-mari
 a
END:VEVENT
BEGIN:VTIMEZONE
TZID:Europe/Madrid
X-LIC-LOCATION:Europe/Madrid
BEGIN:STANDARD
DTSTART;VALUE=DATE-TIME:20201025T020000
TZNAME:CET
TZOFFSETFROM:+0200
TZOFFSETTO:+0100
END:STANDARD
END:VTIMEZONE
END:VCALENDAR
