BEGIN:VCALENDAR
VERSION:2.0
PRODID:-//Plone.org//NONSGML plone.app.event//EN
X-WR-TIMEZONE:Europe/Madrid
BEGIN:VEVENT
SUMMARY:'La princesa o según como se mire'. Cía. PROYECTO CARAVANA. Arag
 ón
DTSTART;TZID=Europe/Madrid;VALUE=DATE-TIME:20230516T120000
DTEND;TZID=Europe/Madrid;VALUE=DATE-TIME:20230516T130000
DTSTAMP;VALUE=DATE-TIME:20260420T123232Z
UID:db30425408724c2bab0815a5eb6efcdd@icas.sevilla.org
CATEGORIES:Teatro infantil y familiar
CREATED;VALUE=DATE-TIME:20230418T100043Z
DESCRIPTION:Feria Internacional del Títere de Sevilla
LAST-MODIFIED;VALUE=DATE-TIME:20231011T100756Z
LOCATION:Centro Cívico Torreblanca
URL:https://icas.sevilla.org/espacios/teatro-alameda/agenda/la-princesa-o-
 segun-como-se-mire-cia-proyecto-caravana-aragon
END:VEVENT
BEGIN:VTIMEZONE
TZID:Europe/Madrid
X-LIC-LOCATION:Europe/Madrid
BEGIN:DAYLIGHT
DTSTART;VALUE=DATE-TIME:20230326T030000
TZNAME:CEST
TZOFFSETFROM:+0100
TZOFFSETTO:+0200
END:DAYLIGHT
END:VTIMEZONE
END:VCALENDAR
