BEGIN:VCALENDAR
VERSION:2.0
PRODID:-//Plone.org//NONSGML plone.app.event//EN
X-WR-TIMEZONE:Europe/Madrid
BEGIN:VEVENT
SUMMARY:'Lo mejor de remedios contra el olvido'. Cía. SOLDENOCHE TEATRO. 
 Extremadura
DTSTART;TZID=Europe/Madrid;VALUE=DATE-TIME:20201222T180000
DTEND;TZID=Europe/Madrid;VALUE=DATE-TIME:20201222T190000
DTSTAMP;VALUE=DATE-TIME:20260425T204311Z
UID:e24695f03d8e4eb5a021f2f64f58514b@icas.sevilla.org
CATEGORIES:Artes escénicas
CREATED;VALUE=DATE-TIME:20201201T173452Z
DESCRIPTION:Cía. SOLDENOCHE TEATRO. Extremadura
LAST-MODIFIED;VALUE=DATE-TIME:20231011T100751Z
LOCATION:Factoría Cultural
URL:https://icas.sevilla.org/espacios/teatro-alameda/agenda/lo-mejor-de-re
 medios-contra-el-olvido
END:VEVENT
BEGIN:VTIMEZONE
TZID:Europe/Madrid
X-LIC-LOCATION:Europe/Madrid
BEGIN:STANDARD
DTSTART;VALUE=DATE-TIME:20201025T020000
TZNAME:CET
TZOFFSETFROM:+0200
TZOFFSETTO:+0100
END:STANDARD
END:VTIMEZONE
END:VCALENDAR
