BEGIN:VCALENDAR
VERSION:2.0
PRODID:-//Plone.org//NONSGML plone.app.event//EN
X-WR-TIMEZONE:Europe/Madrid
BEGIN:VEVENT
SUMMARY:LOS TÍTERES DE CAPERUCITA ROJA (Centro Cívico Cerro del Águila)
DTSTART;TZID=Europe/Madrid;VALUE=DATE-TIME:20220525T120000
DTEND;TZID=Europe/Madrid;VALUE=DATE-TIME:20220525T125000
DTSTAMP;VALUE=DATE-TIME:20260422T232645Z
UID:258005f5c6784d3fb088b44fff056e37@icas.sevilla.org
CATEGORIES:Títeres
CREATED;VALUE=DATE-TIME:20220424T160118Z
DESCRIPTION:Cía. A LA SOMBRITA. Sevilla
LAST-MODIFIED;VALUE=DATE-TIME:20231011T100754Z
LOCATION:Centro Cívico Cerro del Águila
URL:https://icas.sevilla.org/espacios/teatro-alameda/agenda/los-titeres-de
 -caperucita-roja
END:VEVENT
BEGIN:VTIMEZONE
TZID:Europe/Madrid
X-LIC-LOCATION:Europe/Madrid
BEGIN:DAYLIGHT
DTSTART;VALUE=DATE-TIME:20220327T030000
TZNAME:CEST
TZOFFSETFROM:+0100
TZOFFSETTO:+0200
END:DAYLIGHT
END:VTIMEZONE
END:VCALENDAR
