BEGIN:VCALENDAR
VERSION:2.0
PRODID:-//Plone.org//NONSGML plone.app.event//EN
X-WR-TIMEZONE:Europe/Madrid
BEGIN:VEVENT
SUMMARY:M.A.R. (ESAD)
DTSTART;TZID=Europe/Madrid;VALUE=DATE-TIME:20220528T190000
DTEND;TZID=Europe/Madrid;VALUE=DATE-TIME:20220528T200000
DTSTAMP;VALUE=DATE-TIME:20260422T132730Z
UID:8cbdf789ab5e4e33bd64e333682e7438@icas.sevilla.org
CATEGORIES:Títeres
CREATED;VALUE=DATE-TIME:20220424T162242Z
DESCRIPTION:ANDREA DÍAZ REBOREDO. C. de Madrid
LAST-MODIFIED;VALUE=DATE-TIME:20231011T100754Z
LOCATION:Escuela Superior de Arte Dramático
URL:https://icas.sevilla.org/espacios/teatro-alameda/agenda/m-a-r
END:VEVENT
BEGIN:VTIMEZONE
TZID:Europe/Madrid
X-LIC-LOCATION:Europe/Madrid
BEGIN:DAYLIGHT
DTSTART;VALUE=DATE-TIME:20220327T030000
TZNAME:CEST
TZOFFSETFROM:+0100
TZOFFSETTO:+0200
END:DAYLIGHT
END:VTIMEZONE
END:VCALENDAR
