BEGIN:VCALENDAR
VERSION:2.0
PRODID:-//Plone.org//NONSGML plone.app.event//EN
X-WR-TIMEZONE:Europe/Madrid
BEGIN:VEVENT
SUMMARY:'Mujeres semilla'\, de Superar-T
DTSTART;TZID=Europe/Madrid;VALUE=DATE-TIME:20210507T183000
DTEND;TZID=Europe/Madrid;VALUE=DATE-TIME:20210507T193000
DTSTAMP;VALUE=DATE-TIME:20260422T133240Z
UID:86367b3890b34590be488f7460b71c6a@icas.sevilla.org
CATEGORIES:Artes escénicas,Danza
CREATED;VALUE=DATE-TIME:20210426T075107Z
DESCRIPTION:ESTRENO
LAST-MODIFIED;VALUE=DATE-TIME:20231011T100751Z
URL:https://icas.sevilla.org/espacios/teatro-alameda/agenda/mujeres-semill
 a-de-superar-t
END:VEVENT
BEGIN:VTIMEZONE
TZID:Europe/Madrid
X-LIC-LOCATION:Europe/Madrid
BEGIN:DAYLIGHT
DTSTART;VALUE=DATE-TIME:20210328T030000
TZNAME:CEST
TZOFFSETFROM:+0100
TZOFFSETTO:+0200
END:DAYLIGHT
END:VTIMEZONE
END:VCALENDAR
