BEGIN:VCALENDAR
VERSION:2.0
PRODID:-//Plone.org//NONSGML plone.app.event//EN
X-WR-TIMEZONE:Europe/Madrid
BEGIN:VEVENT
SUMMARY:PULCINELLA (Espacio Santa Clara)
DTSTART;TZID=Europe/Madrid;VALUE=DATE-TIME:20220521T123000
DTEND;TZID=Europe/Madrid;VALUE=DATE-TIME:20220522T123000
DTSTAMP;VALUE=DATE-TIME:20260419T173854Z
UID:1e9f221889d440e8a8149fee1fa65a69@icas.sevilla.org
CATEGORIES:Títeres
CREATED;VALUE=DATE-TIME:20220424T155206Z
DESCRIPTION:Cía. IRENE VECCHIA. Italia
LAST-MODIFIED;VALUE=DATE-TIME:20231011T100754Z
LOCATION:Espacio Santa Clara
URL:https://icas.sevilla.org/espacios/teatro-alameda/agenda/pulcinella
END:VEVENT
BEGIN:VTIMEZONE
TZID:Europe/Madrid
X-LIC-LOCATION:Europe/Madrid
BEGIN:DAYLIGHT
DTSTART;VALUE=DATE-TIME:20220327T030000
TZNAME:CEST
TZOFFSETFROM:+0100
TZOFFSETTO:+0200
END:DAYLIGHT
END:VTIMEZONE
END:VCALENDAR
