BEGIN:VCALENDAR
VERSION:2.0
PRODID:-//Plone.org//NONSGML plone.app.event//EN
X-WR-TIMEZONE:Europe/Madrid
BEGIN:VEVENT
SUMMARY:'Ritmos animalescos'. Cía. FÀBRICA DE PARAULES. C. Valenciana
DTSTART;TZID=Europe/Madrid;VALUE=DATE-TIME:20230513T190000
DTEND;TZID=Europe/Madrid;VALUE=DATE-TIME:20230514T200000
DTSTAMP;VALUE=DATE-TIME:20260423T142332Z
UID:ec28e21f9f094862b10419ef070ba2f8@icas.sevilla.org
CATEGORIES:Teatro infantil y familiar
CREATED;VALUE=DATE-TIME:20230418T090040Z
DESCRIPTION:Feria Internacional del Títere de Sevilla
LAST-MODIFIED;VALUE=DATE-TIME:20231011T100756Z
LOCATION:Alameda de Hércules
URL:https://icas.sevilla.org/espacios/teatro-alameda/agenda/ritmos-animale
 scos-cia-fabrica-de-paraules-c-valenciana
END:VEVENT
BEGIN:VTIMEZONE
TZID:Europe/Madrid
X-LIC-LOCATION:Europe/Madrid
BEGIN:DAYLIGHT
DTSTART;VALUE=DATE-TIME:20230326T030000
TZNAME:CEST
TZOFFSETFROM:+0100
TZOFFSETTO:+0200
END:DAYLIGHT
END:VTIMEZONE
END:VCALENDAR
