BEGIN:VCALENDAR
VERSION:2.0
PRODID:-//Plone.org//NONSGML plone.app.event//EN
X-WR-TIMEZONE:Europe/Madrid
BEGIN:VEVENT
SUMMARY:'SEGISMUNDOS. EL ARTE DE VER'. CÍA. NACIONAL DE TEATRO CLÁSICO 
 – EL SUEÑO SUEÑO PROD. C. de Madrid
DTSTART;TZID=Europe/Madrid;VALUE=DATE-TIME:20230315T120000
DTEND;TZID=Europe/Madrid;VALUE=DATE-TIME:20230315T200000
DTSTAMP;VALUE=DATE-TIME:20260423T205424Z
UID:346876d0f3b84d91babf52b8bedecfb8@icas.sevilla.org
CATEGORIES:Teatro para jóvenes
CREATED;VALUE=DATE-TIME:20220912T145541Z
DESCRIPTION:#TEATReVES (VI ciclo ’Los Jóvenes y el Teatro’)
LAST-MODIFIED;VALUE=DATE-TIME:20231011T100755Z
URL:https://icas.sevilla.org/espacios/teatro-alameda/agenda/segismundos-el
 -arte-de-ver-cia-nacional-de-teatro-clasico-2013-el-sueno-sueno-prod-c-de-
 madrid
END:VEVENT
BEGIN:VTIMEZONE
TZID:Europe/Madrid
X-LIC-LOCATION:Europe/Madrid
BEGIN:STANDARD
DTSTART;VALUE=DATE-TIME:20221030T020000
TZNAME:CET
TZOFFSETFROM:+0200
TZOFFSETTO:+0100
END:STANDARD
END:VTIMEZONE
END:VCALENDAR
