BEGIN:VCALENDAR
VERSION:2.0
PRODID:-//Plone.org//NONSGML plone.app.event//EN
X-WR-TIMEZONE:Europe/Madrid
BEGIN:VEVENT
SUMMARY:'Trapito viajero'. Cía. LA GOTERA DE LAZOTEA. Jerez de la Fronter
 a
DTSTART;TZID=Europe/Madrid;VALUE=DATE-TIME:20240510T200000
DTEND;TZID=Europe/Madrid;VALUE=DATE-TIME:20240510T210000
DTSTAMP;VALUE=DATE-TIME:20260423T021426Z
UID:6f9d7d2964a94a818ef8c862e81820eb@icas.sevilla.org
CATEGORIES:Teatro infantil y familiar
CREATED;VALUE=DATE-TIME:20231106T110247Z
DESCRIPTION:33 Ciclo EL TEATRO Y LA ESCUELA
LAST-MODIFIED;VALUE=DATE-TIME:20231106T110305Z
URL:https://icas.sevilla.org/espacios/teatro-alameda/agenda/trapito-viajer
 o-cia-la-gotera-de-lazotea-jerez-de-la-frontera
END:VEVENT
BEGIN:VTIMEZONE
TZID:Europe/Madrid
X-LIC-LOCATION:Europe/Madrid
BEGIN:DAYLIGHT
DTSTART;VALUE=DATE-TIME:20240331T030000
TZNAME:CEST
TZOFFSETFROM:+0100
TZOFFSETTO:+0200
END:DAYLIGHT
END:VTIMEZONE
END:VCALENDAR
