BEGIN:VCALENDAR
VERSION:2.0
PRODID:-//Plone.org//NONSGML plone.app.event//EN
X-WR-TIMEZONE:Europe/Madrid
BEGIN:VEVENT
SUMMARY:'Vértigos'\, de La Niña del Silencio y Creación andaluza: 4 pro
 yectos de creadores y creadoras andaluzas
DTSTART;TZID=Europe/Madrid;VALUE=DATE-TIME:20210509T180000
DTEND;TZID=Europe/Madrid;VALUE=DATE-TIME:20210509T193000
DTSTAMP;VALUE=DATE-TIME:20260422T133431Z
UID:3c8004d12cf44e16b5430787067ad75b@icas.sevilla.org
CATEGORIES:Artes escénicas,Danza,Flamenco
CREATED;VALUE=DATE-TIME:20210426T080451Z
DESCRIPTION:ESTRENOS
LAST-MODIFIED;VALUE=DATE-TIME:20231011T100751Z
URL:https://icas.sevilla.org/espacios/teatro-alameda/agenda/vertigos-de-la
 -nina-del-silencio
END:VEVENT
BEGIN:VTIMEZONE
TZID:Europe/Madrid
X-LIC-LOCATION:Europe/Madrid
BEGIN:DAYLIGHT
DTSTART;VALUE=DATE-TIME:20210328T030000
TZNAME:CEST
TZOFFSETFROM:+0100
TZOFFSETTO:+0200
END:DAYLIGHT
END:VTIMEZONE
END:VCALENDAR
