BEGIN:VCALENDAR
VERSION:2.0
PRODID:-//Plone.org//NONSGML plone.app.event//EN
X-WR-TIMEZONE:Europe/Madrid
BEGIN:VEVENT
SUMMARY:VITA VINUM - Virelay
DTSTART;TZID=Europe/Madrid;VALUE=DATE-TIME:20220330T200000
DTEND;TZID=Europe/Madrid;VALUE=DATE-TIME:20220330T210000
DTSTAMP;VALUE=DATE-TIME:20260423T064040Z
UID:ac069bbd846b4bf59076b2ccdf4fd4cd@icas.sevilla.org
CREATED;VALUE=DATE-TIME:20220308T162116Z
DESCRIPTION:XXXIX FEMÀS 2022. MÚSICA ANTIGUA. TEATRO ALAMEDA
LAST-MODIFIED;VALUE=DATE-TIME:20231011T100753Z
URL:https://icas.sevilla.org/espacios/teatro-alameda/agenda/vita-vinum-vir
 elay
END:VEVENT
BEGIN:VTIMEZONE
TZID:Europe/Madrid
X-LIC-LOCATION:Europe/Madrid
BEGIN:DAYLIGHT
DTSTART;VALUE=DATE-TIME:20220327T030000
TZNAME:CEST
TZOFFSETFROM:+0100
TZOFFSETTO:+0200
END:DAYLIGHT
END:VTIMEZONE
END:VCALENDAR
