BEGIN:VCALENDAR
VERSION:2.0
PRODID:-//Plone.org//NONSGML plone.app.event//EN
X-WR-TIMEZONE:Europe/Madrid
BEGIN:VEVENT
SUMMARY:Alfredo Lagos: 'Sola guitarra'
DTSTART;TZID=Europe/Madrid;VALUE=DATE-TIME:20210419T180000
DTEND;TZID=Europe/Madrid;VALUE=DATE-TIME:20210419T190000
DTSTAMP;VALUE=DATE-TIME:20260422T232101Z
UID:5bb9bff5ef3f4c2298aae79ad5f1b117@icas.sevilla.org
CATEGORIES:Flamenco,Música
CREATED;VALUE=DATE-TIME:20210323T110558Z
DESCRIPTION:Giraldillo del toque
LAST-MODIFIED;VALUE=DATE-TIME:20231011T100746Z
URL:https://icas.sevilla.org/espacios/teatro-lope-de-vega/agenda/alfredo-l
 agos
END:VEVENT
BEGIN:VTIMEZONE
TZID:Europe/Madrid
X-LIC-LOCATION:Europe/Madrid
BEGIN:DAYLIGHT
DTSTART;VALUE=DATE-TIME:20210328T030000
TZNAME:CEST
TZOFFSETFROM:+0100
TZOFFSETTO:+0200
END:DAYLIGHT
END:VTIMEZONE
END:VCALENDAR
