BEGIN:VCALENDAR
VERSION:2.0
PRODID:-//Plone.org//NONSGML plone.app.event//EN
X-WR-TIMEZONE:Europe/Madrid
BEGIN:VEVENT
SUMMARY:Ana contra la muerte
DTSTART;TZID=Europe/Madrid;VALUE=DATE-TIME:20221119T200000
DTEND;TZID=Europe/Madrid;VALUE=DATE-TIME:20221120T190000
DTSTAMP;VALUE=DATE-TIME:20260423T204024Z
UID:94562f959f924fd1860ea91dbb8af2e2@icas.sevilla.org
CATEGORIES:Teatro
CREATED;VALUE=DATE-TIME:20220702T142937Z
DESCRIPTION:Gabriel Calderón
LAST-MODIFIED;VALUE=DATE-TIME:20231011T100747Z
URL:https://icas.sevilla.org/espacios/teatro-lope-de-vega/agenda/ana-contr
 a-la-muerte
END:VEVENT
BEGIN:VTIMEZONE
TZID:Europe/Madrid
X-LIC-LOCATION:Europe/Madrid
BEGIN:STANDARD
DTSTART;VALUE=DATE-TIME:20221030T020000
TZNAME:CET
TZOFFSETFROM:+0200
TZOFFSETTO:+0100
END:STANDARD
END:VTIMEZONE
END:VCALENDAR
