BEGIN:VCALENDAR
VERSION:2.0
PRODID:-//Plone.org//NONSGML plone.app.event//EN
X-WR-TIMEZONE:Europe/Madrid
BEGIN:VEVENT
SUMMARY:Chano Domínguez & Diego Amador Dúo
DTSTART;TZID=Europe/Madrid;VALUE=DATE-TIME:20210213T120000
DTEND;TZID=Europe/Madrid;VALUE=DATE-TIME:20210213T133000
DTSTAMP;VALUE=DATE-TIME:20260421T212333Z
UID:6d3885b220a64386b9f1a842eea9168f@icas.sevilla.org
CATEGORIES:Música,Flamenco
CREATED;VALUE=DATE-TIME:20210127T134202Z
LAST-MODIFIED;VALUE=DATE-TIME:20231011T100745Z
URL:https://icas.sevilla.org/espacios/teatro-lope-de-vega/agenda/chano-dom
 inguez-diego-amador-duo
END:VEVENT
BEGIN:VTIMEZONE
TZID:Europe/Madrid
X-LIC-LOCATION:Europe/Madrid
BEGIN:STANDARD
DTSTART;VALUE=DATE-TIME:20201025T020000
TZNAME:CET
TZOFFSETFROM:+0200
TZOFFSETTO:+0100
END:STANDARD
END:VTIMEZONE
END:VCALENDAR
