BEGIN:VCALENDAR
VERSION:2.0
PRODID:-//Plone.org//NONSGML plone.app.event//EN
X-WR-TIMEZONE:Europe/Madrid
BEGIN:VEVENT
SUMMARY:Concierto de Navidad. 'In Memoriam'
DTSTART;TZID=Europe/Madrid;VALUE=DATE-TIME:20221211T120000
DTEND;TZID=Europe/Madrid;VALUE=DATE-TIME:20221211T130000
DTSTAMP;VALUE=DATE-TIME:20260420T125827Z
UID:3b49647abcaa4ff9bfd89a3803859d81@icas.sevilla.org
CATEGORIES:Música
CREATED;VALUE=DATE-TIME:20220705T121625Z
DESCRIPTION:Fundación Alberto Jiménez-Becerril
LAST-MODIFIED;VALUE=DATE-TIME:20231011T100749Z
URL:https://icas.sevilla.org/espacios/teatro-lope-de-vega/agenda/concierto
 -de-navidad-in-memoriam
END:VEVENT
BEGIN:VTIMEZONE
TZID:Europe/Madrid
X-LIC-LOCATION:Europe/Madrid
BEGIN:STANDARD
DTSTART;VALUE=DATE-TIME:20221030T020000
TZNAME:CET
TZOFFSETFROM:+0200
TZOFFSETTO:+0100
END:STANDARD
END:VTIMEZONE
END:VCALENDAR
