BEGIN:VCALENDAR
VERSION:2.0
PRODID:-//Plone.org//NONSGML plone.app.event//EN
X-WR-TIMEZONE:Europe/Madrid
BEGIN:VEVENT
SUMMARY:Concierto Día de Sevilla
DTSTART;TZID=Europe/Madrid;VALUE=DATE-TIME:20230530T200000
DTEND;TZID=Europe/Madrid;VALUE=DATE-TIME:20230530T210000
DTSTAMP;VALUE=DATE-TIME:20260426T040500Z
UID:05739d45dae9429ba503f00787c76f4b@icas.sevilla.org
CATEGORIES:Música
CREATED;VALUE=DATE-TIME:20220705T122343Z
DESCRIPTION:Ateneo de Sevilla
LAST-MODIFIED;VALUE=DATE-TIME:20231011T100749Z
URL:https://icas.sevilla.org/espacios/teatro-lope-de-vega/agenda/concierto
 -dia-de-sevilla
END:VEVENT
BEGIN:VTIMEZONE
TZID:Europe/Madrid
X-LIC-LOCATION:Europe/Madrid
BEGIN:DAYLIGHT
DTSTART;VALUE=DATE-TIME:20230326T030000
TZNAME:CEST
TZOFFSETFROM:+0100
TZOFFSETTO:+0200
END:DAYLIGHT
END:VTIMEZONE
END:VCALENDAR
