BEGIN:VCALENDAR
VERSION:2.0
PRODID:-//Plone.org//NONSGML plone.app.event//EN
X-WR-TIMEZONE:Europe/Madrid
BEGIN:VEVENT
SUMMARY:Las criadas
DTSTART;TZID=Europe/Madrid;VALUE=DATE-TIME:20210314T120000
DTEND;TZID=Europe/Madrid;VALUE=DATE-TIME:20210314T133000
DTSTAMP;VALUE=DATE-TIME:20260422T124538Z
UID:971d0deef6bc4690b1a77daaab131a4c@icas.sevilla.org
CATEGORIES:Artes escénicas
CREATED;VALUE=DATE-TIME:20210127T140529Z
LAST-MODIFIED;VALUE=DATE-TIME:20231011T100745Z
URL:https://icas.sevilla.org/espacios/teatro-lope-de-vega/agenda/copy_of_l
 as-criadas
END:VEVENT
BEGIN:VTIMEZONE
TZID:Europe/Madrid
X-LIC-LOCATION:Europe/Madrid
BEGIN:STANDARD
DTSTART;VALUE=DATE-TIME:20201025T020000
TZNAME:CET
TZOFFSETFROM:+0200
TZOFFSETTO:+0100
END:STANDARD
END:VTIMEZONE
END:VCALENDAR
