BEGIN:VCALENDAR
VERSION:2.0
PRODID:-//Plone.org//NONSGML plone.app.event//EN
X-WR-TIMEZONE:Europe/Madrid
BEGIN:VEVENT
SUMMARY:'Noches del Lope I'\, Real Orquesta Sinfónica de Sevilla
DTSTART;TZID=Europe/Madrid;VALUE=DATE-TIME:20211028T200000
DTEND;TZID=Europe/Madrid;VALUE=DATE-TIME:20211028T213000
DTSTAMP;VALUE=DATE-TIME:20260422T133702Z
UID:80aca267ce5b4c918c3cc6b0ddaea6b1@icas.sevilla.org
CATEGORIES:Música
CREATED;VALUE=DATE-TIME:20210621T142850Z
DESCRIPTION:Música
LAST-MODIFIED;VALUE=DATE-TIME:20231011T100747Z
URL:https://icas.sevilla.org/espacios/teatro-lope-de-vega/agenda/copy_of_l
 as-noches-del-lope-real-orquesta-sinfonica-de-sevilla
END:VEVENT
BEGIN:VTIMEZONE
TZID:Europe/Madrid
X-LIC-LOCATION:Europe/Madrid
BEGIN:DAYLIGHT
DTSTART;VALUE=DATE-TIME:20210328T030000
TZNAME:CEST
TZOFFSETFROM:+0100
TZOFFSETTO:+0200
END:DAYLIGHT
END:VTIMEZONE
END:VCALENDAR
