BEGIN:VCALENDAR
VERSION:2.0
PRODID:-//Plone.org//NONSGML plone.app.event//EN
X-WR-TIMEZONE:Europe/Madrid
BEGIN:VEVENT
SUMMARY:Eduardo II\, ojos de niebla
DTSTART;TZID=Europe/Madrid;VALUE=DATE-TIME:20210522T200000
DTEND;TZID=Europe/Madrid;VALUE=DATE-TIME:20210522T213000
DTSTAMP;VALUE=DATE-TIME:20260425T191236Z
UID:5f3aab195cff42f294580c82aa3dd195@icas.sevilla.org
CATEGORIES:Artes escénicas,teatro
CREATED;VALUE=DATE-TIME:20210322T162938Z
LAST-MODIFIED;VALUE=DATE-TIME:20231011T100746Z
LOCATION:Teatro Lope de Vega
URL:https://icas.sevilla.org/espacios/teatro-lope-de-vega/agenda/eduardo-i
 i-ojos-de-niebla
END:VEVENT
BEGIN:VTIMEZONE
TZID:Europe/Madrid
X-LIC-LOCATION:Europe/Madrid
BEGIN:DAYLIGHT
DTSTART;VALUE=DATE-TIME:20210328T030000
TZNAME:CEST
TZOFFSETFROM:+0100
TZOFFSETTO:+0200
END:DAYLIGHT
END:VTIMEZONE
END:VCALENDAR
