BEGIN:VCALENDAR
VERSION:2.0
PRODID:-//Plone.org//NONSGML plone.app.event//EN
X-WR-TIMEZONE:Europe/Madrid
BEGIN:VEVENT
SUMMARY:El maquinista de La General
DTSTART;TZID=Europe/Madrid;VALUE=DATE-TIME:20230203T200000
DTEND;TZID=Europe/Madrid;VALUE=DATE-TIME:20230204T180000
DTSTAMP;VALUE=DATE-TIME:20260426T040536Z
UID:3d5963f1f5014e4f9144b73d1b439447@icas.sevilla.org
CATEGORIES:Música
CREATED;VALUE=DATE-TIME:20220702T153511Z
DESCRIPTION:Buster Keaton / Real Orquesta Sinfónica de Sevilla / Timothy 
 Brock
LAST-MODIFIED;VALUE=DATE-TIME:20231011T100748Z
URL:https://icas.sevilla.org/espacios/teatro-lope-de-vega/agenda/el-maquin
 ista-de-la-general
END:VEVENT
BEGIN:VTIMEZONE
TZID:Europe/Madrid
X-LIC-LOCATION:Europe/Madrid
BEGIN:STANDARD
DTSTART;VALUE=DATE-TIME:20221030T020000
TZNAME:CET
TZOFFSETFROM:+0200
TZOFFSETTO:+0100
END:STANDARD
END:VTIMEZONE
END:VCALENDAR
