BEGIN:VCALENDAR
VERSION:2.0
PRODID:-//Plone.org//NONSGML plone.app.event//EN
X-WR-TIMEZONE:Europe/Madrid
BEGIN:VEVENT
SUMMARY:'El viento es salvaje'\, Las Niñas de Cádiz / Ana López Segovia
DTSTART;TZID=Europe/Madrid;VALUE=DATE-TIME:20220225T200000
DTEND;TZID=Europe/Madrid;VALUE=DATE-TIME:20220226T200000
DTSTAMP;VALUE=DATE-TIME:20260426T051312Z
UID:0c017116602449f8a872fe352f9d3d99@icas.sevilla.org
CATEGORIES:Artes escénicas
CREATED;VALUE=DATE-TIME:20210721T073626Z
DESCRIPTION:Teatro
LAST-MODIFIED;VALUE=DATE-TIME:20231011T100746Z
URL:https://icas.sevilla.org/espacios/teatro-lope-de-vega/agenda/el-viento
 -es-salvaje-las-ninas-de-cadiz-ana-lopez-segovia
END:VEVENT
BEGIN:VTIMEZONE
TZID:Europe/Madrid
X-LIC-LOCATION:Europe/Madrid
BEGIN:STANDARD
DTSTART;VALUE=DATE-TIME:20211031T020000
TZNAME:CET
TZOFFSETFROM:+0200
TZOFFSETTO:+0100
END:STANDARD
END:VTIMEZONE
END:VCALENDAR
