BEGIN:VCALENDAR
VERSION:2.0
PRODID:-//Plone.org//NONSGML plone.app.event//EN
X-WR-TIMEZONE:Europe/Madrid
BEGIN:VEVENT
SUMMARY:'Eva contra Eva'
DTSTART;TZID=Europe/Madrid;VALUE=DATE-TIME:20210501T180000
DTEND;TZID=Europe/Madrid;VALUE=DATE-TIME:20210501T192500
DTSTAMP;VALUE=DATE-TIME:20260423T053056Z
UID:6d1647a81fa943d4881ab7d003809390@icas.sevilla.org
CATEGORIES:Artes escénicas,teatro
CREATED;VALUE=DATE-TIME:20210317T154807Z
LAST-MODIFIED;VALUE=DATE-TIME:20231011T100745Z
URL:https://icas.sevilla.org/espacios/teatro-lope-de-vega/agenda/eva-contr
 a-eva
END:VEVENT
BEGIN:VTIMEZONE
TZID:Europe/Madrid
X-LIC-LOCATION:Europe/Madrid
BEGIN:DAYLIGHT
DTSTART;VALUE=DATE-TIME:20210328T030000
TZNAME:CEST
TZOFFSETFROM:+0100
TZOFFSETTO:+0200
END:DAYLIGHT
END:VTIMEZONE
END:VCALENDAR
