BEGIN:VCALENDAR
VERSION:2.0
PRODID:-//Plone.org//NONSGML plone.app.event//EN
X-WR-TIMEZONE:Europe/Madrid
BEGIN:VEVENT
SUMMARY:La casa de Bernarda Alba
DTSTART;TZID=Europe/Madrid;VALUE=DATE-TIME:20210509T120000
DTEND;TZID=Europe/Madrid;VALUE=DATE-TIME:20210509T133000
DTSTAMP;VALUE=DATE-TIME:20260424T192700Z
UID:b03359c058444a1897b69f8a033e05fa@icas.sevilla.org
CATEGORIES:Artes escénicas,teatro
CREATED;VALUE=DATE-TIME:20210318T154049Z
LAST-MODIFIED;VALUE=DATE-TIME:20231011T100746Z
LOCATION:Teatro Lope de Vega
URL:https://icas.sevilla.org/espacios/teatro-lope-de-vega/agenda/la-casa-d
 e-bernarda-alba
END:VEVENT
BEGIN:VTIMEZONE
TZID:Europe/Madrid
X-LIC-LOCATION:Europe/Madrid
BEGIN:DAYLIGHT
DTSTART;VALUE=DATE-TIME:20210328T030000
TZNAME:CEST
TZOFFSETFROM:+0100
TZOFFSETTO:+0200
END:DAYLIGHT
END:VTIMEZONE
END:VCALENDAR
