BEGIN:VCALENDAR
VERSION:2.0
PRODID:-//Plone.org//NONSGML plone.app.event//EN
X-WR-TIMEZONE:Europe/Madrid
BEGIN:VEVENT
SUMMARY:La odisea de Magallanes-Elcano
DTSTART;TZID=Europe/Madrid;VALUE=DATE-TIME:20230526T200000
DTEND;TZID=Europe/Madrid;VALUE=DATE-TIME:20230528T190000
DTSTAMP;VALUE=DATE-TIME:20260425T151448Z
UID:3061fb035152494fa0f7f8748e6124db@icas.sevilla.org
CATEGORIES:Teatro
CREATED;VALUE=DATE-TIME:20220704T154615Z
DESCRIPTION:Teatro Clásico de Sevilla / Alfonso Zurro
LAST-MODIFIED;VALUE=DATE-TIME:20231011T100748Z
URL:https://icas.sevilla.org/espacios/teatro-lope-de-vega/agenda/la-odisea
 -de-magallanes-elcano-1
END:VEVENT
BEGIN:VTIMEZONE
TZID:Europe/Madrid
X-LIC-LOCATION:Europe/Madrid
BEGIN:DAYLIGHT
DTSTART;VALUE=DATE-TIME:20230326T030000
TZNAME:CEST
TZOFFSETFROM:+0100
TZOFFSETTO:+0200
END:DAYLIGHT
END:VTIMEZONE
END:VCALENDAR
