BEGIN:VCALENDAR
VERSION:2.0
PRODID:-//Plone.org//NONSGML plone.app.event//EN
X-WR-TIMEZONE:Europe/Madrid
BEGIN:VEVENT
SUMMARY:La patria chica
DTSTART;TZID=Europe/Madrid;VALUE=DATE-TIME:20210306T120000
DTEND;TZID=Europe/Madrid;VALUE=DATE-TIME:20210306T130000
DTSTAMP;VALUE=DATE-TIME:20260426T024419Z
UID:9ee869190deb4559bf436fcd8c03c188@icas.sevilla.org
CATEGORIES:Artes escénicas,Música
CREATED;VALUE=DATE-TIME:20210127T135812Z
LAST-MODIFIED;VALUE=DATE-TIME:20231011T100745Z
URL:https://icas.sevilla.org/espacios/teatro-lope-de-vega/agenda/la-patria
 -chica
END:VEVENT
BEGIN:VTIMEZONE
TZID:Europe/Madrid
X-LIC-LOCATION:Europe/Madrid
BEGIN:STANDARD
DTSTART;VALUE=DATE-TIME:20201025T020000
TZNAME:CET
TZOFFSETFROM:+0200
TZOFFSETTO:+0100
END:STANDARD
END:VTIMEZONE
END:VCALENDAR
