BEGIN:VCALENDAR
VERSION:2.0
PRODID:-//Plone.org//NONSGML plone.app.event//EN
X-WR-TIMEZONE:Europe/Madrid
BEGIN:VEVENT
SUMMARY:Los pálidos (cancelada)
DTSTART;TZID=Europe/Madrid;VALUE=DATE-TIME:20230415T200000
DTEND;TZID=Europe/Madrid;VALUE=DATE-TIME:20230416T190000
DTSTAMP;VALUE=DATE-TIME:20260425T191145Z
UID:30b5b00050454b59a829472c51a0e19f@icas.sevilla.org
CATEGORIES:Teatro
CREATED;VALUE=DATE-TIME:20220703T153348Z
DESCRIPTION:Lucía Carballal  / Centro Dramático Nacional
LAST-MODIFIED;VALUE=DATE-TIME:20231011T100748Z
URL:https://icas.sevilla.org/espacios/teatro-lope-de-vega/agenda/los-palid
 os
END:VEVENT
BEGIN:VTIMEZONE
TZID:Europe/Madrid
X-LIC-LOCATION:Europe/Madrid
BEGIN:DAYLIGHT
DTSTART;VALUE=DATE-TIME:20230326T030000
TZNAME:CEST
TZOFFSETFROM:+0100
TZOFFSETTO:+0200
END:DAYLIGHT
END:VTIMEZONE
END:VCALENDAR
