BEGIN:VCALENDAR
VERSION:2.0
PRODID:-//Plone.org//NONSGML plone.app.event//EN
X-WR-TIMEZONE:Europe/Madrid
BEGIN:VEVENT
SUMMARY:Marat/Sade
DTSTART;TZID=Europe/Madrid;VALUE=DATE-TIME:20230512T200000
DTEND;TZID=Europe/Madrid;VALUE=DATE-TIME:20230512T214000
DTSTAMP;VALUE=DATE-TIME:20260423T215052Z
UID:b00eb40b25004a89974a20e735f34eff@icas.sevilla.org
CATEGORIES:Teatro
CREATED;VALUE=DATE-TIME:20220704T153142Z
DESCRIPTION:Peter Weiss /  Ricardo Iniesta / Atalaya
LAST-MODIFIED;VALUE=DATE-TIME:20231011T100748Z
URL:https://icas.sevilla.org/espacios/teatro-lope-de-vega/agenda/marat-sad
 e
END:VEVENT
BEGIN:VTIMEZONE
TZID:Europe/Madrid
X-LIC-LOCATION:Europe/Madrid
BEGIN:DAYLIGHT
DTSTART;VALUE=DATE-TIME:20230326T030000
TZNAME:CEST
TZOFFSETFROM:+0100
TZOFFSETTO:+0200
END:DAYLIGHT
END:VTIMEZONE
END:VCALENDAR
