BEGIN:VCALENDAR
VERSION:2.0
PRODID:-//Plone.org//NONSGML plone.app.event//EN
X-WR-TIMEZONE:Europe/Madrid
BEGIN:VEVENT
SUMMARY:'Marie'
DTSTART;TZID=Europe/Madrid;VALUE=DATE-TIME:20210410T180000
DTEND;TZID=Europe/Madrid;VALUE=DATE-TIME:20210410T194000
DTSTAMP;VALUE=DATE-TIME:20260420T023449Z
UID:23ee84fb9621412ebad28559c8d9460b@icas.sevilla.org
CATEGORIES:Artes escénicas,teatro,Música
CREATED;VALUE=DATE-TIME:20210317T154156Z
LAST-MODIFIED;VALUE=DATE-TIME:20231011T100745Z
URL:https://icas.sevilla.org/espacios/teatro-lope-de-vega/agenda/marie
END:VEVENT
BEGIN:VTIMEZONE
TZID:Europe/Madrid
X-LIC-LOCATION:Europe/Madrid
BEGIN:DAYLIGHT
DTSTART;VALUE=DATE-TIME:20210328T030000
TZNAME:CEST
TZOFFSETFROM:+0100
TZOFFSETTO:+0200
END:DAYLIGHT
END:VTIMEZONE
END:VCALENDAR
