BEGIN:VCALENDAR
VERSION:2.0
PRODID:-//Plone.org//NONSGML plone.app.event//EN
X-WR-TIMEZONE:Europe/Madrid
BEGIN:VEVENT
SUMMARY:Órgia
DTSTART;TZID=Europe/Madrid;VALUE=DATE-TIME:20230325T200000
DTEND;TZID=Europe/Madrid;VALUE=DATE-TIME:20230326T190000
DTSTAMP;VALUE=DATE-TIME:20260425T151319Z
UID:ef4731eafc8b41a8b454664df6474db4@icas.sevilla.org
CATEGORIES:Teatro
CREATED;VALUE=DATE-TIME:20220703T151519Z
DESCRIPTION:La Rara / Julia Moyano y Rocío Hoces
LAST-MODIFIED;VALUE=DATE-TIME:20231011T100748Z
URL:https://icas.sevilla.org/espacios/teatro-lope-de-vega/agenda/orgia
END:VEVENT
BEGIN:VTIMEZONE
TZID:Europe/Madrid
X-LIC-LOCATION:Europe/Madrid
BEGIN:STANDARD
DTSTART;VALUE=DATE-TIME:20221030T020000
TZNAME:CET
TZOFFSETFROM:+0200
TZOFFSETTO:+0100
END:STANDARD
BEGIN:DAYLIGHT
DTSTART;VALUE=DATE-TIME:20230326T030000
TZNAME:CEST
TZOFFSETFROM:+0100
TZOFFSETTO:+0200
END:DAYLIGHT
END:VTIMEZONE
END:VCALENDAR
