BEGIN:VCALENDAR
VERSION:2.0
PRODID:-//Plone.org//NONSGML plone.app.event//EN
X-WR-TIMEZONE:Europe/Madrid
BEGIN:VEVENT
SUMMARY:Petróleo
DTSTART;VALUE=DATE:20221027
DTEND;VALUE=DATE:20221028
DTSTAMP;VALUE=DATE-TIME:20260423T141146Z
UID:52ebd1aecc58444d9a868d0da8a1b097@icas.sevilla.org
CATEGORIES:Teatro
CREATED;VALUE=DATE-TIME:20220630T163714Z
DESCRIPTION:Piel de Lava / Laura Fernández
LAST-MODIFIED;VALUE=DATE-TIME:20231011T100747Z
URL:https://icas.sevilla.org/espacios/teatro-lope-de-vega/agenda/petroleo
END:VEVENT
END:VCALENDAR
