BEGIN:VCALENDAR
VERSION:2.0
PRODID:-//Plone.org//NONSGML plone.app.event//EN
X-WR-TIMEZONE:Europe/Madrid
BEGIN:VEVENT
SUMMARY:Según José. De Sevilla a Saramago
DTSTART;TZID=Europe/Madrid;VALUE=DATE-TIME:20221020T200000
DTEND;TZID=Europe/Madrid;VALUE=DATE-TIME:20221020T211000
DTSTAMP;VALUE=DATE-TIME:20260422T105702Z
UID:b6d7101575a745aab14ae7619af11293@icas.sevilla.org
CATEGORIES:Nuevas miradas
CREATED;VALUE=DATE-TIME:20220630T161129Z
DESCRIPTION:Rafael R. Villalobos
LAST-MODIFIED;VALUE=DATE-TIME:20231011T100747Z
URL:https://icas.sevilla.org/espacios/teatro-lope-de-vega/agenda/segun-jos
 e-de-sevilla-a-saramago
END:VEVENT
BEGIN:VTIMEZONE
TZID:Europe/Madrid
X-LIC-LOCATION:Europe/Madrid
BEGIN:DAYLIGHT
DTSTART;VALUE=DATE-TIME:20220327T030000
TZNAME:CEST
TZOFFSETFROM:+0100
TZOFFSETTO:+0200
END:DAYLIGHT
END:VTIMEZONE
END:VCALENDAR
