BEGIN:VCALENDAR
VERSION:2.0
PRODID:-//Plone.org//NONSGML plone.app.event//EN
X-WR-TIMEZONE:Europe/Madrid
BEGIN:VEVENT
SUMMARY:Viento Sur: 30 años
DTSTART;TZID=Europe/Madrid;VALUE=DATE-TIME:20230604T200000
DTEND;TZID=Europe/Madrid;VALUE=DATE-TIME:20230604T213000
DTSTAMP;VALUE=DATE-TIME:20260423T135851Z
UID:262d619c0e0c4ac48d988b6522e0ba12@icas.sevilla.org
CATEGORIES:Teatro
CREATED;VALUE=DATE-TIME:20230523T111104Z
DESCRIPTION:Teatro
LAST-MODIFIED;VALUE=DATE-TIME:20231011T100749Z
URL:https://icas.sevilla.org/espacios/teatro-lope-de-vega/agenda/viento-su
 r-30-anos
END:VEVENT
BEGIN:VTIMEZONE
TZID:Europe/Madrid
X-LIC-LOCATION:Europe/Madrid
BEGIN:DAYLIGHT
DTSTART;VALUE=DATE-TIME:20230326T030000
TZNAME:CEST
TZOFFSETFROM:+0100
TZOFFSETTO:+0200
END:DAYLIGHT
END:VTIMEZONE
END:VCALENDAR
